BEGIN:VCALENDAR
VERSION:2.0
PRODID:-//ChamberMaster//Event Calendar 2.0//EN
METHOD:PUBLISH
X-PUBLISHED-TTL:P3D
REFRESH-INTERVAL:P3D
CALSCALE:GREGORIAN
BEGIN:VEVENT
DTSTART:20251022T153000Z
DTEND:20251022T161500Z
X-MICROSOFT-CDO-ALLDAYEVENT:FALSE
SUMMARY:Executive Board Meeting
DESCRIPTION:Executive Board Meeting prior to Board Retreat\n\nMinutes\n\nAgenda
X-ALT-DESC;FMTTYPE=text/html:Executive Board Meeting prior to Board Retreat<br />\n<a href="https://chambermaster.blob.core.windows.net/userfiles/UserFiles/chambers/3086/File/Exec_Board/9-12-25Minutes.docx">Minutes</a><br />\n<a href="https://chambermaster.blob.core.windows.net/userfiles/UserFiles/chambers/3086/File/Exec_Board/10-22-25Agenda.docx">Agenda</a><br />\n&nbsp\;
LOCATION:Engels Event Center 209 S Main St.
UID:e.3086.9474
SEQUENCE:3
DTSTAMP:20260426T011627Z
URL:http://aberdeenarea.chambermaster.com/events/details/executive-board-meeting-9474
END:VEVENT

END:VCALENDAR
